BEGIN:VCALENDAR
VERSION:2.0
PRODID:-//PFC Training - ECPv6.15.20//NONSGML v1.0//EN
CALSCALE:GREGORIAN
METHOD:PUBLISH
X-WR-CALNAME:PFC Training
X-ORIGINAL-URL:https://pfctraining.com
X-WR-CALDESC:Events for PFC Training
REFRESH-INTERVAL;VALUE=DURATION:PT1H
X-Robots-Tag:noindex
X-PUBLISHED-TTL:PT1H
BEGIN:VTIMEZONE
TZID:America/Los_Angeles
BEGIN:DAYLIGHT
TZOFFSETFROM:-0800
TZOFFSETTO:-0700
TZNAME:PDT
DTSTART:20250309T100000
END:DAYLIGHT
BEGIN:STANDARD
TZOFFSETFROM:-0700
TZOFFSETTO:-0800
TZNAME:PST
DTSTART:20251102T090000
END:STANDARD
BEGIN:DAYLIGHT
TZOFFSETFROM:-0800
TZOFFSETTO:-0700
TZNAME:PDT
DTSTART:20260308T100000
END:DAYLIGHT
BEGIN:STANDARD
TZOFFSETFROM:-0700
TZOFFSETTO:-0800
TZNAME:PST
DTSTART:20261101T090000
END:STANDARD
BEGIN:DAYLIGHT
TZOFFSETFROM:-0800
TZOFFSETTO:-0700
TZNAME:PDT
DTSTART:20270314T100000
END:DAYLIGHT
BEGIN:STANDARD
TZOFFSETFROM:-0700
TZOFFSETTO:-0800
TZNAME:PST
DTSTART:20271107T090000
END:STANDARD
END:VTIMEZONE
BEGIN:VEVENT
DTSTART;VALUE=DATE:20261005
DTEND;VALUE=DATE:20261010
DTSTAMP:20260423T072256
CREATED:20251216T064302Z
LAST-MODIFIED:20251216T064302Z
UID:10001860-1791158400-1791590399@pfctraining.com
SUMMARY:Protective Security Operations Certification (PSOC) - Las Vegas\, NV
DESCRIPTION:Protective Security Operations Certification (PSOC) is designed exclusively for private security\, Federal Government\, DoD\, and law enforcement professionals interested in learning modern methods for executive protection and personal security of high net-worth or ‘at-risk’ individuals.  This five-day certification program is approved training by multiple Federal Government\, state\, and corporate organizations\, and is the only major university-accredited protective services training program in the United States. \nPSOC teaches contemporary skills for low visibility personal security in permissive to semi-permissive environments where a low to moderate threat exists.  This highly academic and practical application-based training course creates a comprehensive and balanced foundation for prospective or current members of protective details.  Subject matter comprises the most progressive and relevant doctrine currently available for individuals seeking instruction in new EP practices. \nThe primary goal of PSOC is to professionally educate and train those tasked with protective operations. Regardless of background or current assignment\, students are trained to operate as a team.  It is critical that protection agents exhibit professionalism\, demonstrate fluid proficiency\, and act with confidence in their abilities.  To achieve and enforce this\, students are held to a high standard and expected to perform during training.  This is a certification course where various forms of testing and evaluation are utilized to measure the requisite knowledge\, skills\, and abilities for graduation.  Attendance does not guarantee completion. \nTo enhance your or your team’s firearms and tactics capabilities\, click the link here for information on PFC’s 2-day Protective Pistol Skills Module. \nPre-requisite: None. \nEnrollment: Open to active security professionals\, law enforcement\, the Department of Defense\, government agencies\, eligible government contractors\, and approved civilians with a security industry affiliation. \nAll applicants must be approved to register: \nPlease submit a Restricted Program Approval Request \nA course registration link will be sent upon approval.  \nSpecific start times will be given upon registration. \nCommercial Cost: $2\,025.00 per student \nGSA Cost: $$1\,381.80 per student \nSTUDENT EQUIPMENT LIST: \nCasual attire for classroom and field training\nBusiness-Casual attire for final exercise (slacks\, collared shirt\, jacket\, etc.)\nSmall hand-held flashlight\n3×5 notebook w/ pen\nCellular phone\nLaptop/Computer Tablet (Strongly Recommended) \n  \nIMPORTANT NOTES:  \n\nTRAVELING – If you are traveling from out of town\, please contact Training Coordinator\, Amanda Dunn at Amanda@pfcgoc.com or call 702-647-1126\, to confirm enrollment requirements for the course have been met BEFORE booking any travel. \nWEAPON RENTALS – If you require weapon rentals from PFC\, please be sure to add the rental to your ticket at the time of purchase\, and immediately notify Training Coordinator\, Amanda Dunn at Amanda@pfcgoc.com or call 702-647-1126\, to confirm rental availability and pickup details. \nAMMO – If you require ammo from PFC Loadout\, please purchase at pfcloadout.com\, adding course name and date in the notes\, and notify Training Coordinator\, Amanda Dunn at Amanda@pfcgoc.com or call 702-647-1126\, to confirm availability and pickup details. \nDEADLINE – Rentals and ammo MUST be purchased NLT 2 days prior to the course beginning. \nQUESTIONS – If you have any questions or concerns\, please feel free to reach out to Training Coordinator\, Amanda Dunn at Amanda@pfcgoc.com.
URL:https://pfctraining.com/event/protective-security-operations-certification-psoc-las-vegas-nv-2-oct26/
LOCATION:Progressive FORCE Concepts – Headquarters\, 2960 E. Sunset Road\, Suite 125\, Las Vegas\, Nevada\, 89120
CATEGORIES:Protective Services Training,PSOC
ATTACH;FMTTYPE=image/png:https://pfctraining.com/wp-content/uploads/2023/02/PSOC-Photo.png
END:VEVENT
BEGIN:VEVENT
DTSTART;TZID=America/Los_Angeles:20261005T080000
DTEND;TZID=America/Los_Angeles:20261009T170000
DTSTAMP:20260423T072256
CREATED:20251216T064820Z
LAST-MODIFIED:20251216T064820Z
UID:10001862-1791187200-1791565200@pfctraining.com
SUMMARY:PSOC Registration - LV
DESCRIPTION:Content is protected.
URL:https://pfctraining.com/event/psoc-registration-lv-2-oct26/
LOCATION:Progressive FORCE Concepts – Headquarters\, 2960 E. Sunset Road\, Suite 125\, Las Vegas\, Nevada\, 89120
CATEGORIES:Protective Services Training
END:VEVENT
BEGIN:VEVENT
DTSTART;VALUE=DATE:20261012
DTEND;VALUE=DATE:20261016
DTSTAMP:20260423T072256
CREATED:20251216T065913Z
LAST-MODIFIED:20251216T065913Z
UID:10001864-1791763200-1792108799@pfctraining.com
SUMMARY:Residential Security Operations Certification (RSOC) - Las Vegas\, NV
DESCRIPTION:Residential Security Operations Certification is a full-scale 4-day training and qualification course for personnel active on estate security details or individuals interested in entry-level protective detail positions.  Many teams and corporations consider PFC’s acclaimed EP curriculum a prerequisite for employment.  The contemporary methods and best practices for Residential Security Operations developed by PFC Safeguards are available to eligible students through this comprehensive career-building course. \nWith a mix of academics\, case studies\, practical application\, and scenario training\, RSOC students will learn how to be successful in high-net-worth family residential settings.  PFC teaches a modern approach to protective customer service\, where client comfort and convenience are balanced with safety and security.  This blending of hard and soft skills training gives PFC graduates the edge during field operations and client interaction.  This is even more important in family/residential environments where many problems must be solved with finesse\, expertise\, and skilled decision-making.  RSOC will give you these tools. \nRSOC training topics include: \n\nFundamentals of Residential Security\nRSO Standard Operating Procedures; Current Best Practices\nProperty Protection Strategy & Physical Security\nEstablishing Operational Posture\, Advantages\, & Protocol\nSecurity Control Room/Command Post Organization & Operation\nEstate Security Technology\nPerimeter Control & Patrol Procedures\nInterpersonal Communications; Client/Staff/Visitor Interaction\nNeighbor Interaction & Intelligence\nScreening Visitors\, Vendors\, Mail\, & Packages\nConfrontation Management & Verbal Diffusion\nManaging Special Events & High Guest Presence\nAdministrative Practices & Reports\nProtective Intelligence & Residential Security Applications\nPerson-of-Interest (POI) Management\nResponding to Medical & Trauma Emergencies\nFirst Responder Communications & Coordination\nExecutive Protection Team Support\nModern Use-of-Force & Legal Responsibilities\nEmergency Action Procedures\nTactical Indoor Defense & Evacuation Skills\nLow\, Medium\, & High Threat Security Response Scenario Training\n\nThe role of a residential security professional is a unique and challenging specialty.  This course will give graduates the core knowledge\, skills\, and abilities to excel in protective operations. \nLength: 4 Days \nSpecific start times will be given upon registration. \nPre-requisite: None \nEnrollment: Restricted Program; Eligible students include active security professionals or individuals with an approved security industry affiliation\, law enforcement\, Department of Defense\, government agencies\, and sponsored/authorized government contractors. \nCost: $1495.00 per student \nAll applicants must be approved to register: \nPlease submit a Restricted Program Approval Request \nA course registration link will be sent upon approval.  \nUpon Approval: Please review the APS Student Catalog below & complete the Student Enrollment Agreement: \nAPS Student Catalog \nEnrollment Agreement Link \n 
URL:https://pfctraining.com/event/residential-security-operations-certification-rsoc-las-vegas-nv-5-oct26/
LOCATION:Progressive FORCE Concepts – Headquarters\, 2960 E. Sunset Road\, Suite 125\, Las Vegas\, Nevada\, 89120
CATEGORIES:Protective Services Training,Residential
ATTACH;FMTTYPE=image/jpeg:https://pfctraining.com/wp-content/uploads/2024/12/housing-pic.jpeg
END:VEVENT
BEGIN:VEVENT
DTSTART;TZID=America/Los_Angeles:20261012T090000
DTEND;TZID=America/Los_Angeles:20261015T170000
DTSTAMP:20260423T072256
CREATED:20251216T070559Z
LAST-MODIFIED:20251216T070559Z
UID:10001865-1791795600-1792083600@pfctraining.com
SUMMARY:RSOC Registration - LV
DESCRIPTION:Content is protected.
URL:https://pfctraining.com/event/rsoc-registration-lv-oct26/
LOCATION:Progressive FORCE Concepts – Headquarters\, 2960 E. Sunset Road\, Suite 125\, Las Vegas\, Nevada\, 89120
CATEGORIES:Protective Services Training,Residential
END:VEVENT
BEGIN:VEVENT
DTSTART;VALUE=DATE:20261016
DTEND;VALUE=DATE:20261017
DTSTAMP:20260423T072256
CREATED:20251216T071007Z
LAST-MODIFIED:20251216T071007Z
UID:10001867-1792108800-1792195199@pfctraining.com
SUMMARY:Protective Operations Supervisor Training (POST)- Las Vegas\, NV
DESCRIPTION:Protective Operations Supervisor Training is an intensive 1-day course designed for security managers\, team leaders\, and anyone responsible for personnel assigned to protective services.  This fully-loaded professional supervisor’s course is unlike any training currently available in the industry.  POST aims to expand leadership knowledge\, skills\, and abilities for the real world and help develop supervisory personnel for increased responsibilities.  Course subject matter includes leadership principles\, maximizing your people\, organizing operations\, best practices for scheduling\, day-to-day management & quality control\, 360-degree communications\, documentation and reporting\, performance evaluations\, progressive discipline\, common battles & mitigation strategies\, managing special events\, crisis management\, and training plan development exercises. Few rise to excellence in the field of protective services and even fewer are destined for management.  This course will prepare today’s leaders for tomorrow’s challenges. \nPrerequisite: Must be employed by an approved organization and current or prospective team leader\, manager\, or supervisor of security personnel.  \nCost: $300.00 per student \nAll applicants must be approved to register: \nPlease submit a Restricted Program Approval Request. \nSpecific start times will be given upon registration. \nIMPORTANT NOTES:  \n\nTRAVELING – If you are traveling from out of town\, please contact Training Coordinator\, Amanda Dunn at Amanda@pfcgoc.com or call 702-647-1126\, to confirm enrollment requirements for the course have been met BEFORE booking any travel. \nWEAPON RENTALS – If you require weapon rentals from PFC\, please be sure to add the rental to your ticket at the time of purchase\, and immediately notify Training Coordinator\, Amanda Dunn at Amanda@pfcgoc.com or call 702-647-1126\, to confirm rental availability and pickup details. \nAMMO – If you require ammo from PFC Loadout\, please purchase at pfcloadout.com\, adding course name and date in the notes\, and notify Training Coordinator\, Amanda Dunn at Amanda@pfcgoc.com or call 702-647-1126\, to confirm availability and pickup details. \nDEADLINE – Rentals and ammo MUST be purchased NLT 2 days prior to the course beginning. \nQUESTIONS – If you have any questions or concerns\, please feel reach to reach out to Training Coordinator\, Amanda Dunn at Amanda@pfcgoc.com
URL:https://pfctraining.com/event/protective-operations-supervisor-training-post-las-vegas-nv-oct26/
LOCATION:Progressive FORCE Concepts – Headquarters\, 2960 E. Sunset Road\, Suite 125\, Las Vegas\, Nevada\, 89120
CATEGORIES:Protective Services Training
ATTACH;FMTTYPE=image/png:https://pfctraining.com/wp-content/uploads/2019/09/Screen-Shot-2019-09-06-at-5.47.04-AM-e1567774298768.png
END:VEVENT
BEGIN:VEVENT
DTSTART;TZID=America/Los_Angeles:20261016T090000
DTEND;TZID=America/Los_Angeles:20261016T170000
DTSTAMP:20260423T072256
CREATED:20251216T071326Z
LAST-MODIFIED:20260211T012148Z
UID:10001868-1792141200-1792170000@pfctraining.com
SUMMARY:POST REGISTRATION - LV
DESCRIPTION:Content is protected.
URL:https://pfctraining.com/event/post-registration-lv-2-oct26/
LOCATION:Progressive FORCE Concepts – Headquarters\, 2960 E. Sunset Road\, Suite 125\, Las Vegas\, Nevada\, 89120
CATEGORIES:Protective Services Training
END:VEVENT
BEGIN:VEVENT
DTSTART;TZID=America/Los_Angeles:20261017T080000
DTEND;TZID=America/Los_Angeles:20261018T170000
DTSTAMP:20260423T072256
CREATED:20251216T071823Z
LAST-MODIFIED:20260220T204806Z
UID:10001869-1792224000-1792342800@pfctraining.com
SUMMARY:Protective Emergency Casualty Care (PECC) - Las Vegas\, NV
DESCRIPTION:Executive protection and personal security professionals must be prepared to respond decisively when medical emergencies occur — whether managing traumatic injury\, sudden cardiac arrest\, severe allergic reactions\, or opioid overdose.\nProtective Emergency Casualty Care (PECC) is a two-day\, protection-focused medical training program designed specifically for executive protection\, residential security\, and corporate response teams.\nDay One – Threat-Based Trauma Response\nParticipants complete NAEMT Tactical Emergency Casualty Care for Law Enforcement & First Responders (TECC-LEO)\, an 8-hour course focused on:\n\n\nCare under threat\n\n\nRapid hemorrhage control\n\n\nAirway and breathing management\n\n\nCasualty movement and evacuation\n\n\nTransition to EMS\n\n\nThis day establishes a tactical medical foundation built for dynamic\, high-risk environments.\nDay Two – Medical Emergencies & Life Support\nParticipants complete:\n\n\nAmerican Red Cross First Aid / CPR / AED (Adult & Pediatric)\n\n\nOpioid Overdose & Naloxone Administration\n\n\nAnaphylaxis & Epinephrine Auto-Injector Administration\n\n\nThis ensures professionals are prepared to manage the most common medical emergencies encountered in protective operations.\nGraduates receive nationally recognized credentials from NAEMT and the American Red Cross\, creating a unified\, scalable medical standard for protective teams.\nPECC is not generic first aid training.\nIt is protection-driven medical readiness — built for professionals who operate where seconds matter.\nCost: $795 Per Student  \nLength: 2-Days \nSpecific start times will be given upon registration. \nPre-requisite: None \nEnrollment: Law Enforcement\, Military\, Security\, Fire & EMS\, and Civilians \nAll applicants must be approved to register: \nPlease submit a Restricted Program Approval Request. \nA course registration link will be sent upon approval.  \nIMPORTANT NOTES:  \n\nTRAVELING – If you are traveling from out of town\, please contact Training Coordinator\, Amanda Dunn at Amanda@pfcgoc.com or call 702-647-1126\, to confirm enrollment requirements for the course have been met BEFORE booking any travel. \nWEAPON RENTALS – If you require weapon rentals from PFC\, please be sure to add the rental to your ticket at the time of purchase\, and immediately notify Training Coordinator\, Amanda Dunn at Amanda@pfcgoc.com or call 702-647-1126\, to confirm rental availability and pickup details. \nAMMO – If you require ammo from PFC Loadout\, please purchase at pfcloadout.com\, adding course name and date in the notes\, and notify Training Coordinator\, Amanda Dunn at Amanda@pfcgoc.com or call 702-647-1126\, to confirm availability and pickup details. \nDEADLINE – Rentals and ammo MUST be purchased NLT 2 days prior to the course beginning. \nQUESTIONS – If you have any questions or concerns\, please feel free to reach to reach out to Training Coordinator\, Amanda Dunn at Amanda@pfcgoc.com
URL:https://pfctraining.com/event/protective-emergency-casualty-care-pecc-las-vegas-nv-oct26/
LOCATION:Progressive FORCE Concepts – Headquarters\, 2960 E. Sunset Road\, Suite 125\, Las Vegas\, Nevada\, 89120
CATEGORIES:Civilian Training,Medical Training
ATTACH;FMTTYPE=image/jpeg:https://pfctraining.com/wp-content/uploads/2023/01/Med1.jpg
END:VEVENT
END:VCALENDAR